Package: MeSHDbi Version: 1.43.0 Command: /Library/Frameworks/R.framework/Resources/bin/R CMD INSTALL MeSHDbi StartedAt: 2025-02-03 15:43:11 -0500 (Mon, 03 Feb 2025) EndedAt: 2025-02-03 15:43:16 -0500 (Mon, 03 Feb 2025) EllapsedTime: 5.2 seconds RetCode: 0 Status: OK