Package: MatrixQCvis Version: 1.17.1 Command: rm -rf MatrixQCvis.buildbin-libdir && mkdir MatrixQCvis.buildbin-libdir && F:\biocbuild\bbs-3.22-bioc\R\bin\R.exe CMD INSTALL --build --library=MatrixQCvis.buildbin-libdir MatrixQCvis_1.17.1.tar.gz StartedAt: 2025-08-15 10:37:59 -0400 (Fri, 15 Aug 2025) EndedAt: 2025-08-15 10:39:20 -0400 (Fri, 15 Aug 2025) EllapsedTime: 81.8 seconds RetCode: 0 Status: OK PackageFile: MatrixQCvis_1.17.1.zip PackageFileSize: 4.37 MiB