Package: MatrixQCvis Version: 1.15.0 Command: /Library/Frameworks/R.framework/Resources/bin/R CMD INSTALL MatrixQCvis StartedAt: 2025-02-05 15:21:44 -0500 (Wed, 05 Feb 2025) EndedAt: 2025-02-05 15:21:59 -0500 (Wed, 05 Feb 2025) EllapsedTime: 15.3 seconds RetCode: 0 Status: OK