Package: MatrixQCvis Version: 1.15.0 Command: /Library/Frameworks/R.framework/Resources/bin/R CMD check --install=check:MatrixQCvis.install-out.txt --library=/Library/Frameworks/R.framework/Resources/library --no-vignettes --timings MatrixQCvis_1.15.0.tar.gz StartedAt: 2025-02-05 20:01:58 -0500 (Wed, 05 Feb 2025) EndedAt: 2025-02-05 20:03:47 -0500 (Wed, 05 Feb 2025) EllapsedTime: 109.3 seconds RetCode: 0 Status: OK CheckDir: MatrixQCvis.Rcheck Warnings: 0