Package: MatrixQCvis Version: 1.15.0 Command: /Library/Frameworks/R.framework/Resources/bin/R CMD build --keep-empty-dirs --no-resave-data MatrixQCvis StartedAt: 2025-02-05 16:50:02 -0500 (Wed, 05 Feb 2025) EndedAt: 2025-02-05 16:51:04 -0500 (Wed, 05 Feb 2025) EllapsedTime: 61.6 seconds RetCode: 0 Status: OK PackageFile: MatrixQCvis_1.15.0.tar.gz PackageFileSize: 4.768 MiB