Package: MatrixQCvis Version: 1.15.0 Command: rm -rf MatrixQCvis.buildbin-libdir && mkdir MatrixQCvis.buildbin-libdir && /Users/biocbuild/BBS/utils/build-universal.sh MatrixQCvis_1.15.0.tar.gz /Library/Frameworks/R.framework/Resources/bin/R MatrixQCvis.buildbin-libdir StartedAt: 2025-02-05 22:24:46 -0500 (Wed, 05 Feb 2025) EndedAt: 2025-02-05 22:25:04 -0500 (Wed, 05 Feb 2025) EllapsedTime: 17.4 seconds RetCode: 0 Status: OK PackageFile: MatrixQCvis_1.15.0.tgz PackageFileSize: 5.019 MiB