Package: MatrixGenerics Version: 1.19.1 Command: /Library/Frameworks/R.framework/Resources/bin/R CMD check --install=check:MatrixGenerics.install-out.txt --library=/Library/Frameworks/R.framework/Resources/library --no-vignettes --timings MatrixGenerics_1.19.1.tar.gz StartedAt: 2025-02-05 21:25:23 -0500 (Wed, 05 Feb 2025) EndedAt: 2025-02-05 21:26:01 -0500 (Wed, 05 Feb 2025) EllapsedTime: 38.1 seconds RetCode: 0 Status: OK CheckDir: MatrixGenerics.Rcheck Warnings: 0