Package: MatrixGenerics Version: 1.21.0 Command: /Library/Frameworks/R.framework/Resources/bin/R CMD build --keep-empty-dirs --no-resave-data MatrixGenerics StartedAt: 2025-05-05 17:18:10 -0400 (Mon, 05 May 2025) EndedAt: 2025-05-05 17:18:11 -0400 (Mon, 05 May 2025) EllapsedTime: 1.0 seconds RetCode: 0 Status: OK PackageFile: MatrixGenerics_1.21.0.tar.gz PackageFileSize: 31.23 KiB