Package: MatrixGenerics Version: 1.21.0 Command: rm -rf MatrixGenerics.buildbin-libdir && mkdir MatrixGenerics.buildbin-libdir && /Users/biocbuild/BBS/utils/build-universal.sh MatrixGenerics_1.21.0.tar.gz /Library/Frameworks/R.framework/Resources/bin/R MatrixGenerics.buildbin-libdir StartedAt: 2025-05-05 23:30:18 -0400 (Mon, 05 May 2025) EndedAt: 2025-05-05 23:30:21 -0400 (Mon, 05 May 2025) EllapsedTime: 3.1 seconds RetCode: 0 Status: OK PackageFile: MatrixGenerics_1.21.0.tgz PackageFileSize: 449.2 KiB