Package: MassArray Version: 1.61.0 Command: /home/biocbuild/R/R/bin/R CMD INSTALL MassArray StartedAt: 2025-10-23 20:16:59 -0000 (Thu, 23 Oct 2025) EndedAt: 2025-10-23 20:17:09 -0000 (Thu, 23 Oct 2025) EllapsedTime: 10.0 seconds RetCode: 0 Status: OK