Package: MassArray Version: 1.59.0 Command: E:\biocbuild\bbs-3.21-bioc\R\bin\R.exe CMD check --no-multiarch --install=check:MassArray.install-out.txt --library=E:\biocbuild\bbs-3.21-bioc\R\library --no-vignettes --timings MassArray_1.59.0.tar.gz StartedAt: 2025-02-04 03:00:52 -0500 (Tue, 04 Feb 2025) EndedAt: 2025-02-04 03:01:52 -0500 (Tue, 04 Feb 2025) EllapsedTime: 60.3 seconds RetCode: 0 Status: OK CheckDir: MassArray.Rcheck Warnings: 0