Package: MassArray Version: 1.59.0 Command: rm -rf MassArray.buildbin-libdir && mkdir MassArray.buildbin-libdir && E:\biocbuild\bbs-3.21-bioc\R\bin\R.exe CMD INSTALL --build --library=MassArray.buildbin-libdir MassArray_1.59.0.tar.gz StartedAt: 2025-02-04 08:17:50 -0500 (Tue, 04 Feb 2025) EndedAt: 2025-02-04 08:18:41 -0500 (Tue, 04 Feb 2025) EllapsedTime: 50.6 seconds RetCode: 0 Status: OK PackageFile: MassArray_1.59.0.zip PackageFileSize: 547.4 KiB