Package: MassArray Version: 1.61.0 Command: /Library/Frameworks/R.framework/Resources/bin/R CMD INSTALL MassArray StartedAt: 2025-05-07 15:03:51 -0400 (Wed, 07 May 2025) EndedAt: 2025-05-07 15:04:08 -0400 (Wed, 07 May 2025) EllapsedTime: 16.7 seconds RetCode: 0 Status: OK