Package: MassArray Version: 1.61.0 Command: /Library/Frameworks/R.framework/Resources/bin/R CMD build --keep-empty-dirs --no-resave-data MassArray StartedAt: 2025-05-08 17:20:32 -0400 (Thu, 08 May 2025) EndedAt: 2025-05-08 17:21:07 -0400 (Thu, 08 May 2025) EllapsedTime: 34.3 seconds RetCode: 0 Status: OK PackageFile: MassArray_1.61.0.tar.gz PackageFileSize: 374.1 KiB