Package: MantelCorr Version: 1.77.0 Command: /Library/Frameworks/R.framework/Resources/bin/R CMD check --install=check:MantelCorr.install-out.txt --library=/Library/Frameworks/R.framework/Resources/library --no-vignettes --timings MantelCorr_1.77.0.tar.gz StartedAt: 2025-01-10 20:01:23 -0500 (Fri, 10 Jan 2025) EndedAt: 2025-01-10 20:01:34 -0500 (Fri, 10 Jan 2025) EllapsedTime: 11.1 seconds RetCode: 0 Status: OK CheckDir: MantelCorr.Rcheck Warnings: 0