Package: Macarron Version: 1.13.2 Command: chmod a+r Macarron -R && F:\biocbuild\bbs-3.22-bioc\R\bin\R.exe CMD build --keep-empty-dirs --no-resave-data Macarron StartedAt: 2025-08-14 21:10:30 -0400 (Thu, 14 Aug 2025) EndedAt: 2025-08-14 21:16:20 -0400 (Thu, 14 Aug 2025) EllapsedTime: 350.0 seconds RetCode: 0 Status: OK PackageFile: Macarron_1.13.2.tar.gz PackageFileSize: 591.3 KiB