Package: Macarron Version: 1.13.2 Command: rm -rf Macarron.buildbin-libdir && mkdir Macarron.buildbin-libdir && F:\biocbuild\bbs-3.22-bioc\R\bin\R.exe CMD INSTALL --build --library=Macarron.buildbin-libdir Macarron_1.13.2.tar.gz StartedAt: 2025-08-15 10:36:39 -0400 (Fri, 15 Aug 2025) EndedAt: 2025-08-15 10:37:15 -0400 (Fri, 15 Aug 2025) EllapsedTime: 35.7 seconds RetCode: 0 Status: OK PackageFile: Macarron_1.13.2.zip PackageFileSize: 652.6 KiB