Package: Macarron Version: 1.11.0 Command: E:\biocbuild\bbs-3.21-bioc\R\bin\R.exe CMD INSTALL Macarron StartedAt: 2025-02-04 16:38:46 -0500 (Tue, 04 Feb 2025) EndedAt: 2025-02-04 16:39:12 -0500 (Tue, 04 Feb 2025) EllapsedTime: 26.0 seconds RetCode: 0 Status: OK