Package: Macarron Version: 1.11.0 Command: chmod a+r Macarron -R && E:\biocbuild\bbs-3.21-bioc\R\bin\R.exe CMD build --keep-empty-dirs --no-resave-data Macarron StartedAt: 2025-02-09 19:36:15 -0500 (Sun, 09 Feb 2025) EndedAt: 2025-02-09 19:42:03 -0500 (Sun, 09 Feb 2025) EllapsedTime: 348.1 seconds RetCode: 0 Status: OK PackageFile: Macarron_1.11.0.tar.gz PackageFileSize: 591.5 KiB