Package: Macarron Version: 1.11.0 Command: rm -rf Macarron.buildbin-libdir && mkdir Macarron.buildbin-libdir && E:\biocbuild\bbs-3.21-bioc\R\bin\R.exe CMD INSTALL --build --library=Macarron.buildbin-libdir Macarron_1.11.0.tar.gz StartedAt: 2025-02-05 08:14:48 -0500 (Wed, 05 Feb 2025) EndedAt: 2025-02-05 08:15:20 -0500 (Wed, 05 Feb 2025) EllapsedTime: 32.0 seconds RetCode: 0 Status: OK PackageFile: Macarron_1.11.0.zip PackageFileSize: 654.7 KiB