Package: Maaslin2 Version: 1.23.0 Command: /home/biocbuild/R/R/bin/R CMD build --keep-empty-dirs --no-resave-data Maaslin2 StartedAt: 2025-09-30 00:59:21 -0000 (Tue, 30 Sep 2025) EndedAt: 2025-09-30 01:01:59 -0000 (Tue, 30 Sep 2025) EllapsedTime: 158.1 seconds RetCode: 1 Status: ERROR PackageFile: None PackageFileSize: NA