Package: Maaslin2 Version: 1.23.0 Command: chmod a+r Maaslin2 -R && F:\biocbuild\bbs-3.22-bioc\R\bin\R.exe CMD build --keep-empty-dirs --no-resave-data Maaslin2 StartedAt: 2025-08-14 21:10:09 -0400 (Thu, 14 Aug 2025) EndedAt: 2025-08-14 21:12:36 -0400 (Thu, 14 Aug 2025) EllapsedTime: 146.9 seconds RetCode: 0 Status: OK PackageFile: Maaslin2_1.23.0.tar.gz PackageFileSize: 544.2 KiB