Package: Maaslin2 Version: 1.21.0 Command: rm -rf Maaslin2.buildbin-libdir && mkdir Maaslin2.buildbin-libdir && E:\biocbuild\bbs-3.21-bioc\R\bin\R.exe CMD INSTALL --build --library=Maaslin2.buildbin-libdir Maaslin2_1.21.0.tar.gz StartedAt: 2025-02-17 07:49:12 -0500 (Mon, 17 Feb 2025) EndedAt: 2025-02-17 07:49:36 -0500 (Mon, 17 Feb 2025) EllapsedTime: 23.9 seconds RetCode: 0 Status: OK PackageFile: Maaslin2_1.21.0.zip PackageFileSize: 607.5 KiB