Package: Maaslin2 Version: 1.21.0 Command: /home/biocbuild/R/R/bin/R CMD build --keep-empty-dirs --no-resave-data Maaslin2 StartedAt: 2025-01-28 23:57:42 -0000 (Tue, 28 Jan 2025) EndedAt: 2025-01-29 00:00:11 -0000 (Wed, 29 Jan 2025) EllapsedTime: 149.1 seconds RetCode: 0 Status: OK PackageFile: Maaslin2_1.21.0.tar.gz PackageFileSize: 568.8 KiB