Package: MWASTools Version: 1.33.0 Command: rm -rf MWASTools.buildbin-libdir && mkdir MWASTools.buildbin-libdir && F:\biocbuild\bbs-3.22-bioc\R\bin\R.exe CMD INSTALL --build --library=MWASTools.buildbin-libdir MWASTools_1.33.0.tar.gz StartedAt: 2025-08-15 10:49:04 -0400 (Fri, 15 Aug 2025) EndedAt: 2025-08-15 10:49:57 -0400 (Fri, 15 Aug 2025) EllapsedTime: 52.2 seconds RetCode: 0 Status: OK PackageFile: MWASTools_1.33.0.zip PackageFileSize: 1.565 MiB