Package: MWASTools Version: 1.31.0 Command: rm -rf MWASTools.buildbin-libdir && mkdir MWASTools.buildbin-libdir && E:\biocbuild\bbs-3.21-bioc\R\bin\R.exe CMD INSTALL --build --library=MWASTools.buildbin-libdir MWASTools_1.31.0.tar.gz StartedAt: 2025-02-04 08:29:12 -0500 (Tue, 04 Feb 2025) EndedAt: 2025-02-04 08:30:04 -0500 (Tue, 04 Feb 2025) EllapsedTime: 52.1 seconds RetCode: 0 Status: OK PackageFile: MWASTools_1.31.0.zip PackageFileSize: 1.565 MiB