Package: MVCClass Version: 1.83.0 Command: /home/biocbuild/bbs-3.22-bioc/R/bin/R CMD INSTALL MVCClass StartedAt: 2025-07-27 15:04:38 -0400 (Sun, 27 Jul 2025) EndedAt: 2025-07-27 15:04:51 -0400 (Sun, 27 Jul 2025) EllapsedTime: 13.5 seconds RetCode: 0 Status: OK