Package: MVCClass Version: 1.83.0 Command: /home/biocbuild/bbs-3.22-bioc/R/bin/R CMD check --install=check:MVCClass.install-out.txt --library=/home/biocbuild/bbs-3.22-bioc/R/site-library --timings MVCClass_1.83.0.tar.gz StartedAt: 2025-10-04 02:11:57 -0400 (Sat, 04 Oct 2025) EndedAt: 2025-10-04 02:12:17 -0400 (Sat, 04 Oct 2025) EllapsedTime: 20.0 seconds RetCode: 0 Status: OK CheckDir: MVCClass.Rcheck Warnings: 0