Package: MVCClass Version: 1.83.0 Command: /home/biocbuild/bbs-3.22-bioc/R/bin/R CMD build --keep-empty-dirs --no-resave-data --md5 MVCClass StartedAt: 2025-07-27 18:16:23 -0400 (Sun, 27 Jul 2025) EndedAt: 2025-07-27 18:16:29 -0400 (Sun, 27 Jul 2025) EllapsedTime: 6.0 seconds RetCode: 0 Status: OK PackageFile: MVCClass_1.83.0.tar.gz PackageFileSize: 1.033 MiB