Package: MVCClass Version: 1.83.0 Command: /Library/Frameworks/R.framework/Resources/bin/R CMD INSTALL MVCClass StartedAt: 2025-05-06 15:06:39 -0400 (Tue, 06 May 2025) EndedAt: 2025-05-06 15:07:32 -0400 (Tue, 06 May 2025) EllapsedTime: 52.6 seconds RetCode: 0 Status: OK