Package: MVCClass Version: 1.83.0 Command: rm -rf MVCClass.buildbin-libdir && mkdir MVCClass.buildbin-libdir && /Users/biocbuild/BBS/utils/build-universal.sh MVCClass_1.83.0.tar.gz /Library/Frameworks/R.framework/Resources/bin/R MVCClass.buildbin-libdir StartedAt: 2025-05-08 00:55:26 -0400 (Thu, 08 May 2025) EndedAt: 2025-05-08 00:55:35 -0400 (Thu, 08 May 2025) EllapsedTime: 8.1 seconds RetCode: 0 Status: OK PackageFile: MVCClass_1.83.0.tgz PackageFileSize: 1.228 MiB