Package: MVCClass Version: 1.83.0 Command: /Library/Frameworks/R.framework/Resources/bin/R CMD INSTALL MVCClass StartedAt: 2025-05-08 15:03:05 -0400 (Thu, 08 May 2025) EndedAt: 2025-05-08 15:03:13 -0400 (Thu, 08 May 2025) EllapsedTime: 7.7 seconds RetCode: 0 Status: OK