Package: MVCClass Version: 1.83.0 Command: /Library/Frameworks/R.framework/Resources/bin/R CMD check --install=check:MVCClass.install-out.txt --library=/Library/Frameworks/R.framework/Resources/library --no-vignettes --timings MVCClass_1.83.0.tar.gz StartedAt: 2025-05-09 20:44:07 -0400 (Fri, 09 May 2025) EndedAt: 2025-05-09 20:44:19 -0400 (Fri, 09 May 2025) EllapsedTime: 12.1 seconds RetCode: 0 Status: OK CheckDir: MVCClass.Rcheck Warnings: 0