Package: MVCClass Version: 1.83.0 Command: /Library/Frameworks/R.framework/Resources/bin/R CMD build --keep-empty-dirs --no-resave-data MVCClass StartedAt: 2025-05-09 17:11:51 -0400 (Fri, 09 May 2025) EndedAt: 2025-05-09 17:11:55 -0400 (Fri, 09 May 2025) EllapsedTime: 4.0 seconds RetCode: 0 Status: OK PackageFile: MVCClass_1.83.0.tar.gz PackageFileSize: 1.031 MiB