Package: MSstatsTMT Version: 2.17.0 Command: /home/biocbuild/bbs-3.22-bioc/R/bin/R CMD INSTALL MSstatsTMT StartedAt: 2025-10-01 15:14:55 -0400 (Wed, 01 Oct 2025) EndedAt: 2025-10-01 15:15:09 -0400 (Wed, 01 Oct 2025) EllapsedTime: 14.2 seconds RetCode: 0 Status: OK