Package: MSstatsTMT Version: 2.17.0 Command: /home/biocbuild/bbs-3.22-bioc/R/bin/R CMD build --keep-empty-dirs --no-resave-data --md5 MSstatsTMT StartedAt: 2025-09-30 18:53:48 -0400 (Tue, 30 Sep 2025) EndedAt: 2025-09-30 18:55:10 -0400 (Tue, 30 Sep 2025) EllapsedTime: 81.1 seconds RetCode: 0 Status: OK PackageFile: MSstatsTMT_2.17.0.tar.gz PackageFileSize: 1.534 MiB