Package: MSstatsShiny Version: 1.11.3 Command: rm -rf MSstatsShiny.buildbin-libdir && mkdir MSstatsShiny.buildbin-libdir && F:\biocbuild\bbs-3.22-bioc\R\bin\R.exe CMD INSTALL --build --library=MSstatsShiny.buildbin-libdir MSstatsShiny_1.11.3.tar.gz StartedAt: 2025-08-15 10:47:20 -0400 (Fri, 15 Aug 2025) EndedAt: 2025-08-15 10:49:08 -0400 (Fri, 15 Aug 2025) EllapsedTime: 107.6 seconds RetCode: 0 Status: OK PackageFile: MSstatsShiny_1.11.3.zip PackageFileSize: 3.691 MiB