Package: MSstatsResponse Version: 1.1.0 Command: /home/biocbuild/bbs-3.23-bioc/R/bin/R CMD INSTALL MSstatsResponse StartedAt: 2025-11-09 15:08:40 -0500 (Sun, 09 Nov 2025) EndedAt: 2025-11-09 15:08:48 -0500 (Sun, 09 Nov 2025) EllapsedTime: 8.8 seconds RetCode: 0 Status: OK