Package: MSstatsQCgui Version: 1.27.0 Command: /home/biocbuild/R/R/bin/R CMD check --install=check:MSstatsQCgui.install-out.txt --library=/home/biocbuild/R/R/site-library --no-vignettes --timings MSstatsQCgui_1.27.0.tar.gz StartedAt: 2024-12-25 08:58:38 -0000 (Wed, 25 Dec 2024) EndedAt: 2024-12-25 09:03:53 -0000 (Wed, 25 Dec 2024) EllapsedTime: 314.4 seconds RetCode: 0 Status: OK CheckDir: MSstatsQCgui.Rcheck Warnings: 0