Package: MSstatsQC Version: 2.27.0 Command: rm -rf MSstatsQC.buildbin-libdir && mkdir MSstatsQC.buildbin-libdir && F:\biocbuild\bbs-3.22-bioc\R\bin\R.exe CMD INSTALL --build --library=MSstatsQC.buildbin-libdir MSstatsQC_2.27.0.tar.gz StartedAt: 2025-08-15 10:47:17 -0400 (Fri, 15 Aug 2025) EndedAt: 2025-08-15 10:48:21 -0400 (Fri, 15 Aug 2025) EllapsedTime: 63.7 seconds RetCode: 0 Status: OK PackageFile: MSstatsQC_2.27.0.zip PackageFileSize: 1.494 MiB