Package: MSstatsQC Version: 2.27.0 Maintainer: Eralp Dogu MaintainerEmail: eralp.dogu at gmail.com git_url: https://git.bioconductor.org/packages/MSstatsQC git_branch: devel git_last_commit: e45ac11 git_last_commit_date: 2025-04-15 11:14:35 -0400 (Tue, 15 Apr 2025)