Package: MSstatsPTM Version: 2.11.5 Command: /home/biocbuild/bbs-3.22-bioc/R/bin/R CMD INSTALL MSstatsPTM StartedAt: 2025-09-30 15:25:15 -0400 (Tue, 30 Sep 2025) EndedAt: 2025-09-30 15:25:42 -0400 (Tue, 30 Sep 2025) EllapsedTime: 27.1 seconds RetCode: 0 Status: OK