Package: MSstatsPTM Version: 2.11.5 Command: /home/biocbuild/bbs-3.22-bioc/R/bin/R CMD build --keep-empty-dirs --no-resave-data --md5 MSstatsPTM StartedAt: 2025-09-30 18:53:35 -0400 (Tue, 30 Sep 2025) EndedAt: 2025-09-30 18:55:12 -0400 (Tue, 30 Sep 2025) EllapsedTime: 96.2 seconds RetCode: 0 Status: OK PackageFile: MSstatsPTM_2.11.5.tar.gz PackageFileSize: 2.867 MiB