Package: MSstatsPTM Version: 2.9.1 Command: rm -rf MSstatsPTM.buildbin-libdir && mkdir MSstatsPTM.buildbin-libdir && /Users/biocbuild/BBS/utils/build-universal.sh MSstatsPTM_2.9.1.tar.gz /Library/Frameworks/R.framework/Resources/bin/R MSstatsPTM.buildbin-libdir StartedAt: 2025-01-10 22:27:44 -0500 (Fri, 10 Jan 2025) EndedAt: 2025-01-10 22:27:56 -0500 (Fri, 10 Jan 2025) EllapsedTime: 12.3 seconds RetCode: 0 Status: OK PackageFile: MSstatsPTM_2.9.1.tgz PackageFileSize: 3.238 MiB