Package: MSstatsLiP Version: 1.15.3 Command: /home/biocbuild/bbs-3.22-bioc/R/bin/R CMD INSTALL MSstatsLiP StartedAt: 2025-10-03 15:24:42 -0400 (Fri, 03 Oct 2025) EndedAt: 2025-10-03 15:25:06 -0400 (Fri, 03 Oct 2025) EllapsedTime: 24.1 seconds RetCode: 0 Status: OK