Package: MSstatsLOBD Version: 1.17.0 Command: chmod a+r MSstatsLOBD -R && F:\biocbuild\bbs-3.22-bioc\R\bin\R.exe CMD build --keep-empty-dirs --no-resave-data MSstatsLOBD StartedAt: 2025-08-14 21:45:59 -0400 (Thu, 14 Aug 2025) EndedAt: 2025-08-14 21:46:41 -0400 (Thu, 14 Aug 2025) EllapsedTime: 42.3 seconds RetCode: 0 Status: OK PackageFile: MSstatsLOBD_1.17.0.tar.gz PackageFileSize: 137.2 KiB