Package: MSstatsLOBD Version: 1.17.0 Command: rm -rf MSstatsLOBD.buildbin-libdir && mkdir MSstatsLOBD.buildbin-libdir && F:\biocbuild\bbs-3.22-bioc\R\bin\R.exe CMD INSTALL --build --library=MSstatsLOBD.buildbin-libdir MSstatsLOBD_1.17.0.tar.gz StartedAt: 2025-08-15 10:47:11 -0400 (Fri, 15 Aug 2025) EndedAt: 2025-08-15 10:47:23 -0400 (Fri, 15 Aug 2025) EllapsedTime: 12.2 seconds RetCode: 0 Status: OK PackageFile: MSstatsLOBD_1.17.0.zip PackageFileSize: 184.4 KiB