Package: MSstatsConvert Version: 1.19.3 Command: /home/biocbuild/bbs-3.22-bioc/R/bin/R CMD INSTALL MSstatsConvert StartedAt: 2025-10-02 15:03:25 -0400 (Thu, 02 Oct 2025) EndedAt: 2025-10-02 15:03:46 -0400 (Thu, 02 Oct 2025) EllapsedTime: 21.7 seconds RetCode: 0 Status: OK