Package: MSstatsConvert Version: 1.19.3 Command: /home/biocbuild/bbs-3.22-bioc/R/bin/R CMD build --keep-empty-dirs --no-resave-data --md5 MSstatsConvert StartedAt: 2025-10-02 18:54:42 -0400 (Thu, 02 Oct 2025) EndedAt: 2025-10-02 18:54:59 -0400 (Thu, 02 Oct 2025) EllapsedTime: 17.0 seconds RetCode: 0 Status: OK PackageFile: MSstatsConvert_1.19.3.tar.gz PackageFileSize: 2.115 MiB