Package: MSstatsBioNet Version: 1.1.7 Command: /home/biocbuild/R/R/bin/R CMD INSTALL MSstatsBioNet StartedAt: 2025-10-16 21:26:34 -0000 (Thu, 16 Oct 2025) EndedAt: 2025-10-16 21:26:53 -0000 (Thu, 16 Oct 2025) EllapsedTime: 18.6 seconds RetCode: 0 Status: OK